BEGIN:VCALENDAR
VERSION:2.0
PRODID:-//70.39.246.176//NONSGML kigkonsult.se iCalcreator 2.26.9//
CALSCALE:GREGORIAN
METHOD:PUBLISH
X-WR-CALNAME:Adaptation Fund
X-WR-CALDESC:Helping developing countries build resilience and adapt to cli
 mate change
X-FROM-URL:https://www.adaptation-fund.org
X-WR-TIMEZONE:America/New_York
BEGIN:VTIMEZONE
TZID:America/New_York
X-LIC-LOCATION:America/New_York
BEGIN:STANDARD
DTSTART:20221106T020000
TZOFFSETFROM:-0400
TZOFFSETTO:-0500
RDATE:20231105T020000,20241103T020000
TZNAME:EST
END:STANDARD
BEGIN:DAYLIGHT
DTSTART:20230312T020000
TZOFFSETFROM:-0500
TZOFFSETTO:-0400
RDATE:20240310T020000
TZNAME:EDT
END:DAYLIGHT
END:VTIMEZONE
BEGIN:VEVENT
UID:ai1ec-34779@www.adaptation-fund.org
DTSTAMP:20230506T123533Z
CATEGORIES;LANGUAGE=en-US:Global Events
CONTACT:
DESCRIPTION:
DTSTART;VALUE=DATE:20211101
DTEND;VALUE=DATE:20211113
LOCATION:Glasgow\, UK
SEQUENCE:0
SUMMARY:26th session of the Conference of the Parties (COP 26) to the UNFCC
 C
URL:https://www.adaptation-fund.org/event/26th-session-of-the-conference-of
 -the-parties-cop-26-to-the-unfccc/
X-COST-TYPE:free
END:VEVENT
END:VCALENDAR
