BEGIN:VCALENDAR
VERSION:2.0
PRODID:-//70.39.246.176//NONSGML kigkonsult.se iCalcreator 2.26.9//
CALSCALE:GREGORIAN
METHOD:PUBLISH
X-WR-CALNAME:Adaptation Fund
X-WR-CALDESC:Helping developing countries build resilience and adapt to cli
 mate change
X-FROM-URL:https://www.adaptation-fund.org
X-WR-TIMEZONE:America/New_York
BEGIN:VTIMEZONE
TZID:America/New_York
X-LIC-LOCATION:America/New_York
BEGIN:STANDARD
DTSTART:20221106T020000
TZOFFSETFROM:-0400
TZOFFSETTO:-0500
RDATE:20231105T020000,20241103T020000
TZNAME:EST
END:STANDARD
BEGIN:DAYLIGHT
DTSTART:20230312T020000
TZOFFSETFROM:-0500
TZOFFSETTO:-0400
RDATE:20240310T020000
TZNAME:EDT
END:DAYLIGHT
END:VTIMEZONE
BEGIN:VEVENT
UID:ai1ec-35606@www.adaptation-fund.org
DTSTAMP:20230506T112910Z
CATEGORIES;LANGUAGE=en-US:Adaptation Fund Events
CONTACT:
DESCRIPTION:<p><strong>Webinar: Building resilience in the agriculture sect
 or in Africa in light of COVID-19 pandemic – Experience from the Adaptatio
 n Fund project implemented by Sahara and Sahel Observatory (OSS) in Uganda
 </strong></p>\n<p><strong><a href='https://www.adaptation-fund.org/wp-cont
 ent/uploads/2020/05/Webinar-Building-resilience-in-the-agriculture-sector-
 in-Africa_AF-project-in-Uganda_05202020.pdf'>Agenda for the Webinar</a></s
 trong></p>\n<p>Host: Adaptation Fund Board Secretariat<br />\nThursday\, M
 ay 28\, 2020<br />\n9:00 am | Eastern Daylight Time (New York\, GMT-04:00)
  | 1 hr 30 mins</p>\n<p>Kindly register for the event to confirm attendanc
 e at the following <a href='https://worldbankgroup.webex.com/mw3300/mywebe
 x/default.do?service=1&siteurl=worldbankgroup&nomenu=true&main_url=%2Fmc33
 00%2Fe.do%3Fsiteurl%3Dworldbankgroup%26AT%3DMI%26EventID%3D1007176757%26UI
 D%3D0%26Host%3DQUhTSwAAAASXTGaLel-wnDkVOngnDaVEE5FmvE97-LIAOolB0PRC8jQ6rON
 Qxd0CTZRVRTHVunNYpi7YXay91uSr5Oohnjns0%26RG%3D1%26FrameSet%3D2%26RGID%3Drf
 eb70fa1215cf8087072312330f227c4'><strong>LINK </strong></a></p>\n<p>Please
  note that there are limited spaces available and participation will be co
 nfirmed on a first come\, first served basis.</p>
DTSTART;TZID=America/New_York:20200528T090000
DTEND;TZID=America/New_York:20200528T103000
LOCATION:Webex
SEQUENCE:0
SUMMARY:Building Resilience in the Agriculture Sector in Africa in Light of
  COVID-19 Pandemic – Experience from the Adaptation Fund Project Implement
 ed by Sahara and Sahel Observatory (OSS) in Uganda
URL:https://www.adaptation-fund.org/event/building-resilience-in-the-agricu
 lture-sector-in-africa-in-light-of-covid-19-pandemic-experience-from-the-a
 daptation-fund-project-implemented-by-sahara-and-sahel-observatory-oss-in-
 uganda/
X-COST-TYPE:free
END:VEVENT
END:VCALENDAR
