BEGIN:VCALENDAR
VERSION:2.0
PRODID:-//70.39.246.176//NONSGML kigkonsult.se iCalcreator 2.26.9//
CALSCALE:GREGORIAN
METHOD:PUBLISH
X-WR-CALNAME:Adaptation Fund
X-WR-CALDESC:Helping developing countries build resilience and adapt to cli
 mate change
X-FROM-URL:https://www.adaptation-fund.org
X-WR-TIMEZONE:America/New_York
BEGIN:VTIMEZONE
TZID:America/New_York
X-LIC-LOCATION:America/New_York
BEGIN:STANDARD
DTSTART:20221106T020000
TZOFFSETFROM:-0400
TZOFFSETTO:-0500
RDATE:20231105T020000,20241103T020000
TZNAME:EST
END:STANDARD
BEGIN:DAYLIGHT
DTSTART:20230312T020000
TZOFFSETFROM:-0500
TZOFFSETTO:-0400
RDATE:20240310T020000
TZNAME:EDT
END:DAYLIGHT
END:VTIMEZONE
BEGIN:VEVENT
UID:ai1ec-40263@www.adaptation-fund.org
DTSTAMP:20230506T123612Z
CATEGORIES;LANGUAGE=en-US:Adaptation Fund Events
CONTACT:
DESCRIPTION:<p>The next deadline for submission of project and programme pr
 oposals is <strong>April 26\, 2021</strong> at<strong> 18:00 (Washington D
 C time)</strong> for the Adaptation Fund Board’s consideration at its <str
 ong>Intersessional 36th-37th Board meeting</strong>. Proposals may be subm
 itted as early as <strong>April 19\, 2021</strong>.</p>\n<p>This includes 
 submissions of innovation\, learning and project scale up grant proposals.
 </p>
DTSTART;TZID=America/New_York:20210426T180000
SEQUENCE:0
SUMMARY:Deadline for submission of proposals for the Adaptation Fund Board’
 s considerations at its Intersessional 36th-37th Board meeting
URL:https://www.adaptation-fund.org/event/deadline-for-submission-of-propos
 als-for-the-adaptation-fund-boards-considerations-at-its-intersessional-36
 th-37th-board-meeting/
X-COST-TYPE:free
X-INSTANT-EVENT:1
END:VEVENT
END:VCALENDAR
