BEGIN:VCALENDAR
VERSION:2.0
PRODID:-//70.39.246.176//NONSGML kigkonsult.se iCalcreator 2.26.9//
CALSCALE:GREGORIAN
METHOD:PUBLISH
X-WR-CALNAME:Adaptation Fund
X-WR-CALDESC:Helping developing countries build resilience and adapt to cli
 mate change
X-FROM-URL:https://www.adaptation-fund.org
X-WR-TIMEZONE:America/New_York
BEGIN:VTIMEZONE
TZID:America/New_York
X-LIC-LOCATION:America/New_York
BEGIN:STANDARD
DTSTART:20221106T020000
TZOFFSETFROM:-0400
TZOFFSETTO:-0500
RDATE:20231105T020000,20241103T020000
TZNAME:EST
END:STANDARD
BEGIN:DAYLIGHT
DTSTART:20230312T020000
TZOFFSETFROM:-0500
TZOFFSETTO:-0400
RDATE:20240310T020000
TZNAME:EDT
END:DAYLIGHT
END:VTIMEZONE
BEGIN:VEVENT
UID:ai1ec-46842@www.adaptation-fund.org
DTSTAMP:20230506T123646Z
CATEGORIES;LANGUAGE=en-US:Adaptation Fund Events
CONTACT:
DESCRIPTION:
DTSTART;VALUE=DATE:20220404
DTEND;VALUE=DATE:20220409
SEQUENCE:0
SUMMARY:38th Adaptation Fund Board Meeting at Bonn\, Germany
URL:https://www.adaptation-fund.org/event/38th-adaptation-fund-board-meetin
 g-at-bonn-germany/
X-COST-TYPE:free
X-ALT-DESC;FMTTYPE=text/html:<!DOCTYPE HTML PUBLIC '-//W3C//DTD HTML 3.2//E
 N'>\\n<HTML>\\n<HEAD>\\n<TITLE></TITLE>\\n</HEAD>\\n<BODY>    	\n    </BODY
 ></HTML>
END:VEVENT
END:VCALENDAR
