BEGIN:VCALENDAR
VERSION:2.0
PRODID:-//70.39.246.176//NONSGML kigkonsult.se iCalcreator 2.26.9//
CALSCALE:GREGORIAN
METHOD:PUBLISH
X-WR-CALNAME:Adaptation Fund
X-WR-CALDESC:Helping developing countries build resilience and adapt to cli
 mate change
X-FROM-URL:https://www.adaptation-fund.org
X-WR-TIMEZONE:America/New_York
BEGIN:VTIMEZONE
TZID:America/New_York
X-LIC-LOCATION:America/New_York
BEGIN:STANDARD
DTSTART:20221106T020000
TZOFFSETFROM:-0400
TZOFFSETTO:-0500
RDATE:20231105T020000,20241103T020000
TZNAME:EST
END:STANDARD
BEGIN:DAYLIGHT
DTSTART:20230312T020000
TZOFFSETFROM:-0500
TZOFFSETTO:-0400
RDATE:20240310T020000
TZNAME:EDT
END:DAYLIGHT
END:VTIMEZONE
BEGIN:VEVENT
UID:ai1ec-50556@www.adaptation-fund.org
DTSTAMP:20230506T123615Z
CATEGORIES;LANGUAGE=en-US:Adaptation Fund Events
CONTACT:
DESCRIPTION:The next deadline for submission of project and programme propo
 sals is May 2\, 2022 at 18:00 (Washington DC time) for the Adaptation Fund
  Board’s consideration at its Intersessional 38th-39th Board meeting. Prop
 osals may be submitted as early as April 22\, 2022.\nOnly single-country a
 nd regional project and programme proposals that are not first-submissions
  will be accepted.
DTSTART;TZID=America/New_York:20220502T180000
SEQUENCE:0
SUMMARY:Deadline For Submission Of Proposals For The Adaptation Fund Board’
 s Considerations At Its Intersessional 38th-39th Board Meeting
URL:https://www.adaptation-fund.org/event/deadline-for-submission-of-propos
 als-for-the-adaptation-fund-boards-considerations-at-its-intersessional-38
 th-39th-board-meeting/
X-COST-TYPE:free
X-ALT-DESC;FMTTYPE=text/html:<!DOCTYPE HTML PUBLIC '-//W3C//DTD HTML 3.2//E
 N'>\\n<HTML>\\n<HEAD>\\n<TITLE></TITLE>\\n</HEAD>\\n<BODY><p>The next dead
 line for submission of project and programme proposals is <strong>May 2\, 
 2022</strong> at<strong> 18:00 (Washington DC time)</strong> for the Adapt
 ation Fund Board’s consideration at its <strong>Intersessional 38th-39th B
 oard meeting</strong>. Proposals may be submitted as early as <strong>Apri
 l 22\, 2022</strong>.</p>\n<p>Only single-country and regional project and
  programme proposals that are not first-submissions will be accepted.</p>
 \n    	\n    </BODY></HTML>
X-INSTANT-EVENT:1
END:VEVENT
END:VCALENDAR
