BEGIN:VCALENDAR
VERSION:2.0
PRODID:-//wp-events-plugin.com//7.2.3.1//EN
TZID:America/New_York
X-WR-TIMEZONE:America/New_York
BEGIN:VEVENT
UID:95@adaptation-fund.org
DTSTART;TZID=America/New_York:20161012T060000
DTEND;TZID=America/New_York:20161012T060000
DTSTAMP:20260313T175645Z
URL:https://www.adaptation-fund.org/event/14th-green-climate-fund-board-me
 eting/
SUMMARY:14th Green Climate Fund Board meeting
DESCRIPTION:
CATEGORIES:Global Events
LOCATION:South Korea\, Incheon\, South Korea\, 406-052\, Incheon\, South Ko
 rea
X-APPLE-STRUCTURED-LOCATION;VALUE=URI;X-ADDRESS=Incheon\, South Korea\, 406
 -052\, Incheon\, South Korea;X-APPLE-RADIUS=100;X-TITLE=South Korea:geo:0,
 0
END:VEVENT
BEGIN:VTIMEZONE
TZID:America/New_York
X-LIC-LOCATION:America/New_York
BEGIN:DAYLIGHT
DTSTART:20160313T030000
TZOFFSETFROM:-0500
TZOFFSETTO:-0400
TZNAME:EDT
END:DAYLIGHT
END:VTIMEZONE
END:VCALENDAR