BEGIN:VCALENDAR
VERSION:2.0
PRODID:-//wp-events-plugin.com//7.2.3.1//EN
TZID:America/New_York
X-WR-TIMEZONE:America/New_York
BEGIN:VEVENT
UID:115@adaptation-fund.org
DTSTART;TZID=America/New_York:20111213T060000
DTEND;TZID=America/New_York:20111213T060000
DTSTAMP:20260313T175645Z
URL:https://www.adaptation-fund.org/event/16th-adaptation-fund-board-meeti
 ng/
SUMMARY:16th Adaptation Fund Board Meeting
DESCRIPTION:
CATEGORIES:Adaptation Fund Events
LOCATION:South Africa\, \, 
X-APPLE-STRUCTURED-LOCATION;VALUE=URI;X-ADDRESS=\, ;X-APPLE-RADIUS=100;X-TI
 TLE=South Africa:geo:0,0
END:VEVENT
BEGIN:VTIMEZONE
TZID:America/New_York
X-LIC-LOCATION:America/New_York
BEGIN:STANDARD
DTSTART:20111106T010000
TZOFFSETFROM:-0400
TZOFFSETTO:-0500
TZNAME:EST
END:STANDARD
END:VTIMEZONE
END:VCALENDAR