BEGIN:VCALENDAR
VERSION:2.0
PRODID:-//wp-events-plugin.com//7.2.3.1//EN
TZID:America/New_York
X-WR-TIMEZONE:America/New_York
BEGIN:VEVENT
UID:7@adaptation-fund.org
DTSTART;TZID=Europe/Berlin:20250616T000000
DTEND;TZID=Europe/Berlin:20250616T000000
DTSTAMP:20260313T175644Z
URL:https://www.adaptation-fund.org/event/2025-bonn-climate-change-confere
 nce/
SUMMARY:2025 Bonn Climate Change Conference
DESCRIPTION:The sixty-second sessions of the Subsidiary Body for Scientific
  and Technological Advice and the Subsidiary Body for Implementation (SB 6
 2) of the United Nations Framework Convention on Climate Change (UNFCCC) w
 ill take place at the World Conference Center Bonn (WCCB) in Bonn\, German
 y\, from 16 to 26 June 2025.\n\nMore information can be found on the UNFCC
 C Website.
CATEGORIES:Global Events
LOCATION:World Conference Center Bonn (WCCB)\, Bonn\, Germany\, \, 
X-APPLE-STRUCTURED-LOCATION;VALUE=URI;X-ADDRESS=\, ;X-APPLE-RADIUS=100;X-TI
 TLE=World Conference Center Bonn (WCCB)\, Bonn\, Germany:geo:0,0
END:VEVENT
BEGIN:VTIMEZONE
TZID:Europe/Berlin
X-LIC-LOCATION:Europe/Berlin
BEGIN:DAYLIGHT
DTSTART:20250330T030000
TZOFFSETFROM:+0100
TZOFFSETTO:+0200
TZNAME:CEST
END:DAYLIGHT
END:VTIMEZONE
END:VCALENDAR