BEGIN:VCALENDAR
VERSION:2.0
PRODID:-//wp-events-plugin.com//7.2.3.1//EN
TZID:America/New_York
X-WR-TIMEZONE:America/New_York
BEGIN:VEVENT
UID:144@adaptation-fund.org
DTSTART;TZID=America/New_York:20160126T060000
DTEND;TZID=America/New_York:20160126T060000
DTSTAMP:20260313T175645Z
URL:https://www.adaptation-fund.org/event/21st-accreditation-panel-meeting
 /
SUMMARY:21st Accreditation Panel Meeting
DESCRIPTION:
CATEGORIES:Adaptation Fund Events
LOCATION:Washington\, DC\, Washington\, DC\, USA\, Washington\, United Stat
 es\, District of Columbia\, United States
X-APPLE-STRUCTURED-LOCATION;VALUE=URI;X-ADDRESS=Washington\, DC\, USA\, Was
 hington\, United States\, District of Columbia\, United States;X-APPLE-RAD
 IUS=100;X-TITLE=Washington\, DC:geo:0,0
END:VEVENT
BEGIN:VTIMEZONE
TZID:America/New_York
X-LIC-LOCATION:America/New_York
BEGIN:STANDARD
DTSTART:20151101T010000
TZOFFSETFROM:-0400
TZOFFSETTO:-0500
TZNAME:EST
END:STANDARD
END:VTIMEZONE
END:VCALENDAR