BEGIN:VCALENDAR
VERSION:2.0
PRODID:-//wp-events-plugin.com//7.2.3.1//EN
TZID:America/New_York
X-WR-TIMEZONE:America/New_York
BEGIN:VEVENT
UID:81@adaptation-fund.org
DTSTART;TZID=America/New_York:20170918T060000
DTEND;TZID=America/New_York:20170918T060000
DTSTAMP:20260313T175644Z
URL:https://www.adaptation-fund.org/event/26th-accreditation-panel-meeting
 /
SUMMARY:26th Accreditation Panel Meeting
DESCRIPTION:\n\nTwenty-sixth meeting of the Accreditation Panel of the Adap
 tation Fund.\n\n
CATEGORIES:Adaptation Fund Events
LOCATION:Washington\, DC\, USA\, Washington\, DC\, USA\, Washington\, Unite
 d States\, District of Columbia\, United States
X-APPLE-STRUCTURED-LOCATION;VALUE=URI;X-ADDRESS=Washington\, DC\, USA\, Was
 hington\, United States\, District of Columbia\, United States;X-APPLE-RAD
 IUS=100;X-TITLE=Washington\, DC\, USA:geo:0,0
END:VEVENT
BEGIN:VTIMEZONE
TZID:America/New_York
X-LIC-LOCATION:America/New_York
BEGIN:DAYLIGHT
DTSTART:20170312T030000
TZOFFSETFROM:-0500
TZOFFSETTO:-0400
TZNAME:EDT
END:DAYLIGHT
END:VTIMEZONE
END:VCALENDAR