BEGIN:VCALENDAR
VERSION:2.0
PRODID:-//wp-events-plugin.com//7.2.3.1//EN
TZID:America/New_York
X-WR-TIMEZONE:America/New_York
BEGIN:VEVENT
UID:30@adaptation-fund.org
DTSTART;TZID=Europe/London:20211101T010000
DTEND;TZID=Europe/London:20211101T010000
DTSTAMP:20260313T175644Z
URL:https://www.adaptation-fund.org/event/26th-session-of-the-conference-o
 f-the-parties-cop-26-to-the-unfccc/
SUMMARY:26th session of the Conference of the Parties (COP 26) to the UNFCC
 C
DESCRIPTION:
CATEGORIES:Global Events
LOCATION:Glasgow\, UK\, \, 
X-APPLE-STRUCTURED-LOCATION;VALUE=URI;X-ADDRESS=\, ;X-APPLE-RADIUS=100;X-TI
 TLE=Glasgow\, UK:geo:0,0
END:VEVENT
BEGIN:VTIMEZONE
TZID:Europe/London
X-LIC-LOCATION:Europe/London
BEGIN:STANDARD
DTSTART:20211031T010000
TZOFFSETFROM:+0100
TZOFFSETTO:+0000
TZNAME:GMT
END:STANDARD
END:VTIMEZONE
END:VCALENDAR