BEGIN:VCALENDAR
VERSION:2.0
PRODID:-//wp-events-plugin.com//7.2.3.1//EN
TZID:America/New_York
X-WR-TIMEZONE:America/New_York
BEGIN:VEVENT
UID:149@adaptation-fund.org
DTSTART;TZID=America/New_York:20160315T050000
DTEND;TZID=America/New_York:20160315T050000
DTSTAMP:20260313T175645Z
URL:https://www.adaptation-fund.org/event/27th-adaptation-fund-board-meeti
 ng/
SUMMARY:27th Adaptation Fund Board Meeting
DESCRIPTION:The 27th Adaptation Fund Board Meeting in Bonn\, Germany will b
 e webcast live March 17-18 from 9:00am to 5:00pm CET. Click here to view t
 he webcast.\n\nAll the meeting documents are available here: www.adaptati
 on-fund.org/meeting/27th-afb-meeting/
CATEGORIES:Adaptation Fund Events
LOCATION:UN Campus\, Bonn\, Germany\, Langer Eugen\, Hermann-Ehlers-Straße
  10\, 53113 Bonn\, Germany\, Bonn\, Germany\, 53113\, Nordrhein-Westfalen\
 , Germany
X-APPLE-STRUCTURED-LOCATION;VALUE=URI;X-ADDRESS=Langer Eugen\, Hermann-Ehle
 rs-Straße 10\, 53113 Bonn\, Germany\, Bonn\, Germany\, 53113\, Nordrhein-
 Westfalen\, Germany;X-APPLE-RADIUS=100;X-TITLE=UN Campus\, Bonn\, Germany:
 geo:0,0
END:VEVENT
BEGIN:VTIMEZONE
TZID:America/New_York
X-LIC-LOCATION:America/New_York
BEGIN:DAYLIGHT
DTSTART:20160313T030000
TZOFFSETFROM:-0500
TZOFFSETTO:-0400
TZNAME:EDT
END:DAYLIGHT
END:VTIMEZONE
END:VCALENDAR