BEGIN:VCALENDAR
VERSION:2.0
PRODID:-//wp-events-plugin.com//7.2.3.1//EN
TZID:America/New_York
X-WR-TIMEZONE:America/New_York
BEGIN:VEVENT
UID:158@adaptation-fund.org
DTSTART;TZID=Europe/Berlin:20161004T000000
DTEND;TZID=Europe/Berlin:20161004T000000
DTSTAMP:20260313T175645Z
URL:https://www.adaptation-fund.org/event/28th-adaptation-fund-board-meeti
 ng/
SUMMARY:28th Adaptation Fund Board Meeting
DESCRIPTION:
CATEGORIES:Adaptation Fund Events
LOCATION:UN Campus\, Bonn\, Germany\, Langer Eugen\, Hermann-Ehlers-Straße
  10\, 53113 Bonn\, Germany\, Bonn\, Germany\, 53113\, Nordrhein-Westfalen\
 , Germany
X-APPLE-STRUCTURED-LOCATION;VALUE=URI;X-ADDRESS=Langer Eugen\, Hermann-Ehle
 rs-Straße 10\, 53113 Bonn\, Germany\, Bonn\, Germany\, 53113\, Nordrhein-
 Westfalen\, Germany;X-APPLE-RADIUS=100;X-TITLE=UN Campus\, Bonn\, Germany:
 geo:0,0
END:VEVENT
BEGIN:VTIMEZONE
TZID:Europe/Berlin
X-LIC-LOCATION:Europe/Berlin
BEGIN:DAYLIGHT
DTSTART:20160327T030000
TZOFFSETFROM:+0100
TZOFFSETTO:+0200
TZNAME:CEST
END:DAYLIGHT
END:VTIMEZONE
END:VCALENDAR