BEGIN:VCALENDAR
VERSION:2.0
PRODID:-//wp-events-plugin.com//7.2.3.1//EN
TZID:America/New_York
X-WR-TIMEZONE:America/New_York
BEGIN:VEVENT
UID:161@adaptation-fund.org
DTSTART;TZID=Europe/Berlin:20170314T000000
DTEND;TZID=Europe/Berlin:20170314T000000
DTSTAMP:20260313T175645Z
URL:https://www.adaptation-fund.org/event/29th-adaptation-fund-board-meeti
 ng/
SUMMARY:29th Adaptation Fund Board Meeting
DESCRIPTION:
CATEGORIES:Adaptation Fund Events
LOCATION:UN Campus\, Langer Eugen\, Hermann-Ehlers-Straße 10\, 53113 Bonn\
 , Germany\, Bonn\, Germany\, 53113\, Nordrhein-Westfalen\, Germany
X-APPLE-STRUCTURED-LOCATION;VALUE=URI;X-ADDRESS=Langer Eugen\, Hermann-Ehle
 rs-Straße 10\, 53113 Bonn\, Germany\, Bonn\, Germany\, 53113\, Nordrhein-
 Westfalen\, Germany;X-APPLE-RADIUS=100;X-TITLE=UN Campus:geo:0,0
END:VEVENT
BEGIN:VTIMEZONE
TZID:Europe/Berlin
X-LIC-LOCATION:Europe/Berlin
BEGIN:STANDARD
DTSTART:20161030T020000
TZOFFSETFROM:+0200
TZOFFSETTO:+0100
TZNAME:CET
END:STANDARD
END:VTIMEZONE
END:VCALENDAR