BEGIN:VCALENDAR
VERSION:2.0
PRODID:-//wp-events-plugin.com//7.2.3.1//EN
TZID:America/New_York
X-WR-TIMEZONE:America/New_York
BEGIN:VEVENT
UID:163@adaptation-fund.org
DTSTART;TZID=Europe/Berlin:20171010T000000
DTEND;TZID=Europe/Berlin:20171010T000000
DTSTAMP:20260313T175645Z
URL:https://www.adaptation-fund.org/event/30th-adaptation-fund-board-meeti
 ng/
SUMMARY:30th Adaptation Fund Board Meeting
DESCRIPTION:The thirtieth meeting of the Adaptation Fund Board is held at t
 he UN Campus\, in Bonn\, Germany.\n\nView the meeting documents &gt\;\n\nW
 atch live webcast on October 12-13 &gt\;
CATEGORIES:Adaptation Fund Events
LOCATION:UN Campus\, Langer Eugen\, Hermann-Ehlers-Straße 10\, 53113 Bonn\
 , Germany\, Bonn\, Germany\, 53113\, Nordrhein-Westfalen\, Germany
X-APPLE-STRUCTURED-LOCATION;VALUE=URI;X-ADDRESS=Langer Eugen\, Hermann-Ehle
 rs-Straße 10\, 53113 Bonn\, Germany\, Bonn\, Germany\, 53113\, Nordrhein-
 Westfalen\, Germany;X-APPLE-RADIUS=100;X-TITLE=UN Campus:geo:0,0
END:VEVENT
BEGIN:VTIMEZONE
TZID:Europe/Berlin
X-LIC-LOCATION:Europe/Berlin
BEGIN:DAYLIGHT
DTSTART:20170326T030000
TZOFFSETFROM:+0100
TZOFFSETTO:+0200
TZNAME:CEST
END:DAYLIGHT
END:VTIMEZONE
END:VCALENDAR