BEGIN:VCALENDAR
VERSION:2.0
PRODID:-//wp-events-plugin.com//7.2.3.1//EN
TZID:America/New_York
X-WR-TIMEZONE:America/New_York
BEGIN:VEVENT
UID:77@adaptation-fund.org
DTSTART;TZID=America/New_York:20181009T060000
DTEND;TZID=America/New_York:20181009T060000
DTSTAMP:20260313T175644Z
URL:https://www.adaptation-fund.org/event/32nd-adaptation-fund-board-meeti
 ng/
SUMMARY:32nd Adaptation Fund Board Meeting
DESCRIPTION:
CATEGORIES:Adaptation Fund Events
LOCATION:UN Campus\, Platz der Vereinten Nationen 1\, 53113 Bonn\, Germany\
 , Bonn\, Germany\, 53113\, Nordrhein-Westfalen\, Germany
X-APPLE-STRUCTURED-LOCATION;VALUE=URI;X-ADDRESS=Platz der Vereinten Natione
 n 1\, 53113 Bonn\, Germany\, Bonn\, Germany\, 53113\, Nordrhein-Westfalen\
 , Germany;X-APPLE-RADIUS=100;X-TITLE=UN Campus:geo:0,0
END:VEVENT
BEGIN:VTIMEZONE
TZID:America/New_York
X-LIC-LOCATION:America/New_York
BEGIN:DAYLIGHT
DTSTART:20180311T030000
TZOFFSETFROM:-0500
TZOFFSETTO:-0400
TZNAME:EDT
END:DAYLIGHT
END:VTIMEZONE
END:VCALENDAR