BEGIN:VCALENDAR
VERSION:2.0
PRODID:-//wp-events-plugin.com//7.2.3.1//EN
TZID:America/New_York
X-WR-TIMEZONE:America/New_York
BEGIN:VEVENT
UID:16@adaptation-fund.org
DTSTART;TZID=America/New_York:20220404T060000
DTEND;TZID=America/New_York:20220404T060000
DTSTAMP:20260313T175644Z
URL:https://www.adaptation-fund.org/event/38th-adaptation-fund-board-meeti
 ng-at-bonn-germany/
SUMMARY:38th Adaptation Fund Board Meeting at Bonn\, Germany
DESCRIPTION:
CATEGORIES:Adaptation Fund Events
END:VEVENT
BEGIN:VTIMEZONE
TZID:America/New_York
X-LIC-LOCATION:America/New_York
BEGIN:DAYLIGHT
DTSTART:20220313T030000
TZOFFSETFROM:-0500
TZOFFSETTO:-0400
TZNAME:EDT
END:DAYLIGHT
END:VTIMEZONE
END:VCALENDAR