BEGIN:VCALENDAR
VERSION:2.0
PRODID:-//wp-events-plugin.com//7.2.3.1//EN
TZID:America/New_York
X-WR-TIMEZONE:America/New_York
BEGIN:VEVENT
UID:8@adaptation-fund.org
DTSTART;TZID=Europe/Berlin:20250408T000000
DTEND;TZID=Europe/Berlin:20250408T000000
DTSTAMP:20260313T175644Z
URL:https://www.adaptation-fund.org/event/44th-adaptation-fund-board-meeti
 ng/
SUMMARY:44th Adaptation Fund Board Meeting
DESCRIPTION:The 44th Adaptation Fund Board meeting will be held in Bonn\, G
 ermany from April 8-11\, 2025 from 9am to 5pm Central European Time (CET) 
 with an informal consultation on April 7. Meeting documents as well as lin
 ks to live streaming of the meeting will be made available on this page cl
 oser to the event.
CATEGORIES:Adaptation Fund Events
LOCATION:UN Campus\, Bonn\, Germany\, \, 
X-APPLE-STRUCTURED-LOCATION;VALUE=URI;X-ADDRESS=\, ;X-APPLE-RADIUS=100;X-TI
 TLE=UN Campus\, Bonn\, Germany:geo:0,0
END:VEVENT
BEGIN:VTIMEZONE
TZID:Europe/Berlin
X-LIC-LOCATION:Europe/Berlin
BEGIN:DAYLIGHT
DTSTART:20250330T030000
TZOFFSETFROM:+0100
TZOFFSETTO:+0200
TZNAME:CEST
END:DAYLIGHT
END:VTIMEZONE
END:VCALENDAR