BEGIN:VCALENDAR
VERSION:2.0
PRODID:-//wp-events-plugin.com//7.2.3.1//EN
TZID:America/New_York
X-WR-TIMEZONE:America/New_York
BEGIN:VEVENT
UID:3@adaptation-fund.org
DTSTART;TZID=Europe/Brussels:20251006T000000
DTEND;TZID=Europe/Brussels:20251006T000000
DTSTAMP:20260313T175644Z
URL:https://www.adaptation-fund.org/event/45th-adaptation-fund-board-meeti
 ng/
SUMMARY:45th Adaptation Fund Board Meeting
DESCRIPTION:The 45th Adaptation Fund Board Meeting will be held in Bonn\, G
 ermany from 6 to 10 October\, 2025.
CATEGORIES:Adaptation Fund Events
LOCATION:Bonn\, Germany\, \, 
X-APPLE-STRUCTURED-LOCATION;VALUE=URI;X-ADDRESS=\, ;X-APPLE-RADIUS=100;X-TI
 TLE=Bonn\, Germany:geo:0,0
END:VEVENT
BEGIN:VTIMEZONE
TZID:Europe/Brussels
X-LIC-LOCATION:Europe/Brussels
BEGIN:DAYLIGHT
DTSTART:20250330T030000
TZOFFSETFROM:+0100
TZOFFSETTO:+0200
TZNAME:CEST
END:DAYLIGHT
END:VTIMEZONE
END:VCALENDAR