BEGIN:VCALENDAR
VERSION:2.0
PRODID:-//wp-events-plugin.com//7.2.3.1//EN
TZID:America/New_York
X-WR-TIMEZONE:America/New_York
BEGIN:VEVENT
UID:109@adaptation-fund.org
DTSTART;TZID=America/New_York:20110808T060000
DTEND;TZID=America/New_York:20110808T060000
DTSTAMP:20260313T175645Z
URL:https://www.adaptation-fund.org/event/7th-accreditation-panel-meeting/
SUMMARY:7th Accreditation Panel meeting
DESCRIPTION:
CATEGORIES:Adaptation Fund Events
LOCATION:Washington\, DC\, \, 
X-APPLE-STRUCTURED-LOCATION;VALUE=URI;X-ADDRESS=\, ;X-APPLE-RADIUS=100;X-TI
 TLE=Washington\, DC:geo:0,0
END:VEVENT
BEGIN:VTIMEZONE
TZID:America/New_York
X-LIC-LOCATION:America/New_York
BEGIN:DAYLIGHT
DTSTART:20110313T030000
TZOFFSETFROM:-0500
TZOFFSETTO:-0400
TZNAME:EDT
END:DAYLIGHT
END:VTIMEZONE
END:VCALENDAR