BEGIN:VCALENDAR
VERSION:2.0
PRODID:-//wp-events-plugin.com//7.2.3.1//EN
TZID:America/New_York
X-WR-TIMEZONE:America/New_York
BEGIN:VEVENT
UID:147@adaptation-fund.org
DTSTART;TZID=America/New_York:20160309T060000
DTEND;TZID=America/New_York:20160309T060000
DTSTAMP:20260313T175645Z
URL:https://www.adaptation-fund.org/event/adaptation-committee-meeting/
SUMMARY:Adaptation Committee Meeting
DESCRIPTION:Ninth meeting of the UNFCCC's Adaptation Committee (AC)
LOCATION:Bonn\, Germany\, Bonn\, Germany\, Bonn\, Germany\, North Rhine-Wes
 tphalia\, Germany
X-APPLE-STRUCTURED-LOCATION;VALUE=URI;X-ADDRESS=Bonn\, Germany\, Bonn\, Ger
 many\, North Rhine-Westphalia\, Germany;X-APPLE-RADIUS=100;X-TITLE=Bonn\, 
 Germany:geo:0,0
END:VEVENT
BEGIN:VTIMEZONE
TZID:America/New_York
X-LIC-LOCATION:America/New_York
BEGIN:STANDARD
DTSTART:20151101T010000
TZOFFSETFROM:-0400
TZOFFSETTO:-0500
TZNAME:EST
END:STANDARD
END:VTIMEZONE
END:VCALENDAR