BEGIN:VCALENDAR
VERSION:2.0
PRODID:-//wp-events-plugin.com//7.2.3.1//EN
TZID:America/New_York
X-WR-TIMEZONE:America/New_York
BEGIN:VEVENT
UID:68@adaptation-fund.org
DTSTART;TZID=Europe/Berlin:20171116T000000
DTEND;TZID=Europe/Berlin:20171116T000000
DTSTAMP:20260313T175644Z
URL:https://www.adaptation-fund.org/event/adaptation-fund-10th-anniversary
 -event/
SUMMARY:Adaptation Fund 10th Anniversary Event
DESCRIPTION:The Adaptation Fund is co-hosting a special 10th anniversary co
 mmemorative event together with the City of Bonn. Read more &gt\;
CATEGORIES:Adaptation Fund Events
END:VEVENT
BEGIN:VTIMEZONE
TZID:Europe/Berlin
X-LIC-LOCATION:Europe/Berlin
BEGIN:STANDARD
DTSTART:20171029T020000
TZOFFSETFROM:+0200
TZOFFSETTO:+0100
TZNAME:CET
END:STANDARD
END:VTIMEZONE
END:VCALENDAR