BEGIN:VCALENDAR
VERSION:2.0
PRODID:-//wp-events-plugin.com//7.2.3.1//EN
TZID:America/New_York
X-WR-TIMEZONE:America/New_York
BEGIN:VEVENT
UID:13@adaptation-fund.org
DTSTART;TZID=Africa/Cairo:20221114T120000
DTEND;TZID=Africa/Cairo:20221114T124500
DTSTAMP:20260313T175644Z
URL:https://www.adaptation-fund.org/event/adaptation-fund-access-to-climat
 e-finance-for-adaptation-new-medium-term-strategy-of-the-fund/
SUMMARY:Adaptation Fund - Access to Climate Finance for Adaptation - New Me
 dium-Term Strategy of the Fund
DESCRIPTION: AGENDA\n13:00-13:05: Welcoming – Mr Mahamat Assouyouti\, Ad
 aptation Fund Board Secretariat\nترحيب - السيد محمد السو
 يوطي ، سكرتارية مجلس إدارة صندوق التكيف\n
 \n13:05-13:10: Opening Remarks – Mr Albara Tawfiq\, Chair\, Adaptation 
 Fund Board\n\n\n       ملاحظات افتتاحية - السيد ا
 لبراء توفيق ، رئيس مجلس إدارة صندوق التك
 يف\n\n\n13:10-13:20: Presentation of funding windows under the new medi
 um-term strategy – Ms Imèn Meliane\, Adaptation Fund Board Secretariat\
 n\n\nعرض نوافذ التمويل في إطار الاستراتيجي
 ة الجديدة متوسطة المدى –\n\n\n\n السيدة إيم
 ان مليان، سكرتارية مجلس صندوق التكيف\n\n13:
 20-13:35: Presentations by\n\n 	Representatives of Implementing Entities 
 of the Adaptation Fund\n\n\nلصندوق التكيف هيئات التن
 فيذعروض عن\n\n\n\n\n 	 National Implementing Entity (TBC)\n\n\n\
 n -جهة تنفيذ وطنية (TBC)\n\n 	Ms Khaoula Jaoui\, Sahara and 
 Sahel Observatory (OSS)\n\n- السيدة خولة جاوي ، مرصد ا
 لصحراء والساحل\n\n 	Walid Nasr\, International Fund for Agric
 ultural Development (IFAD)\n\n- وليد نصر ، الصندوق الدو
 لي للتنمية الزراعية (إيفاد)\n\n\n\n13:35- 13:45: Qu
 estions and Answers\nأسئلة وأجوبة\n\n\n\n\n
CATEGORIES:Adaptation Fund Events
LOCATION:IFAD Pavilion\, COP27\, 
X-APPLE-STRUCTURED-LOCATION;VALUE=URI;X-ADDRESS=COP27\, ;X-APPLE-RADIUS=100
 ;X-TITLE=IFAD Pavilion:geo:0,0
END:VEVENT
BEGIN:VTIMEZONE
TZID:Africa/Cairo
X-LIC-LOCATION:Africa/Cairo
BEGIN:STANDARD
DTSTART:20211114T120000
TZOFFSETFROM:+0200
TZOFFSETTO:+0200
TZNAME:EET
END:STANDARD
END:VTIMEZONE
END:VCALENDAR