BEGIN:VCALENDAR
VERSION:2.0
PRODID:-//wp-events-plugin.com//7.2.3.1//EN
TZID:America/New_York
X-WR-TIMEZONE:America/New_York
BEGIN:VEVENT
UID:69@adaptation-fund.org
DTSTART;TZID=Europe/Berlin:20171106T000000
DTEND;TZID=Europe/Berlin:20171106T000000
DTSTAMP:20260313T175644Z
URL:https://www.adaptation-fund.org/event/adaptation-fund-multimedia-exhib
 it/
SUMMARY:Adaptation Fund Multimedia Exhibit
DESCRIPTION:Adaptation Fund Multimedia Exhibit\nNovember 6 - 17\, 2017\n10 
 Years of Pioneering Innovations in Adaptation Finance\, Concrete Actions a
 nd Fostering Learning and Sharing\n\n&nbsp\;
CATEGORIES:Adaptation Fund Events
LOCATION:World Conference Center\, Bonn\, Germany\, Platz der Vereinten Nat
 ionen 2\, 53113 Bonn\, Germany\, Bonn\, Germany\, 53113\, Nordrhein-Westfa
 len\, Germany
X-APPLE-STRUCTURED-LOCATION;VALUE=URI;X-ADDRESS=Platz der Vereinten Natione
 n 2\, 53113 Bonn\, Germany\, Bonn\, Germany\, 53113\, Nordrhein-Westfalen\
 , Germany;X-APPLE-RADIUS=100;X-TITLE=World Conference Center\, Bonn\, Germ
 any:geo:0,0
END:VEVENT
BEGIN:VTIMEZONE
TZID:Europe/Berlin
X-LIC-LOCATION:Europe/Berlin
BEGIN:STANDARD
DTSTART:20171029T020000
TZOFFSETFROM:+0200
TZOFFSETTO:+0100
TZNAME:CET
END:STANDARD
END:VTIMEZONE
END:VCALENDAR