BEGIN:VCALENDAR
VERSION:2.0
PRODID:-//wp-events-plugin.com//7.2.3.1//EN
TZID:America/New_York
X-WR-TIMEZONE:America/New_York
BEGIN:VEVENT
UID:146@adaptation-fund.org
DTSTART;TZID=Europe/Paris:20160512T110000
DTEND;TZID=Europe/Paris:20160512T120000
DTSTAMP:20260313T175645Z
URL:https://www.adaptation-fund.org/event/adaptation-fund-presentation-at-
 gef-ieo-panel-session-monitoring-evaluating-and-scaling-up-adaptation-evid
 ence-based-learning/
SUMMARY:Adaptation Fund presentation at GEF IEO Panel Session: Monitoring\,
  evaluating\, and scaling up adaptation: evidence-based learning
DESCRIPTION:SP 8.6 Monitoring\, evaluating\, and scaling up adaptation: ev
 idence-based learning\n11.00 – 12.45\nMees Auditorium\n\nSufficient adap
 tation options have been implemented to assess lessons learned in monitori
 ng\, evaluating\, learning\, and scaling up. Case studies from two climat
 e funds will be explored\, covering 51 least developed countries  (LDCs)
  and a wide range of Non-Annex 1 countries. Technical papers commissioned 
 by UNEP’s Global Programme of Research on Climate Change Vulnerability\
 , Impacts and Adaptation (PROVIA) and the Scientific and Technical Adviso
 ry Panel (STAP) of the Global Environmental Facility (GEF) will be discuss
 ed to demonstrate progress in adaptation interventions. These presentatio
 ns will be followed by a roundtable discussion about how lessons learned 
 might shape future adaptation monitoring\, evaluation\, learning\, and sc
 aling up.\n\nOrganised by Dennis Bours\, Global Environment Facility’s I
 ndependent Evaluation Office (GEF IEO)\, USA\n\nPresentations\nClimate ch
 ange adaptation monitoring\, evaluation\, and learning: lessons from clima
 te vulnerable sectors\nAnand Patwardhan\, Scientific and Technical Adviso
 ry Panel of the Global Environment Facility (STAP GEF)\, USA\n\nLinking m
 onitoring\, evaluation\, and learning across scale: establishing the two-w
 ay linkages between institutional and national level actions and local im
 pacts and benefits\nKristie Ebi\, University of Washington\, USA and Globa
 l Programme of Research on Climate Change Vulnerability\, Impacts\, and Ad
 aptation (UNEP/PROVIA)\, Kenya\n\nLearning to scale up: lessons from the G
 EF adaptation portfolio\nSaliha Dobardzic\, Global Environment Facility (G
 EF) Secretariat\, USA\n\nLessons from Adaptation Fund (AF) South-South coo
 peration to advance adaptation\nMikko Ollikainen\, Adaptation Fund\, USA
CATEGORIES:Adaptation Fund Events
LOCATION:Postillion Convention Centre\, Rotterdam\, Beursplein 37\, 3011 AA
  Rotterdam\, Netherlands\, Rotterdam\, Netherlands\, 3011 AA\, Zuid-Hollan
 d\, Netherlands
X-APPLE-STRUCTURED-LOCATION;VALUE=URI;X-ADDRESS=Beursplein 37\, 3011 AA Rot
 terdam\, Netherlands\, Rotterdam\, Netherlands\, 3011 AA\, Zuid-Holland\, 
 Netherlands;X-APPLE-RADIUS=100;X-TITLE=Postillion Convention Centre\, Rott
 erdam:geo:0,0
END:VEVENT
BEGIN:VTIMEZONE
TZID:Europe/Paris
X-LIC-LOCATION:Europe/Paris
BEGIN:DAYLIGHT
DTSTART:20160327T030000
TZOFFSETFROM:+0100
TZOFFSETTO:+0200
TZNAME:CEST
END:DAYLIGHT
END:VTIMEZONE
END:VCALENDAR