BEGIN:VCALENDAR
VERSION:2.0
PRODID:-//wp-events-plugin.com//7.2.3.1//EN
TZID:America/New_York
X-WR-TIMEZONE:America/New_York
BEGIN:VEVENT
UID:87@adaptation-fund.org
DTSTART;TZID=America/New_York:20170420T150000
DTEND;TZID=America/New_York:20170420T163000
DTSTAMP:20260313T175645Z
URL:https://www.adaptation-fund.org/event/adaptation-fund-readiness-webina
 r-4/
SUMMARY:Adaptation Fund Readiness Webinar #4
DESCRIPTION:The Climate Finance Readiness Webinar series for the National I
 mplementing Entities of the Adaptation Fund continues with the topic of Mo
 nitoring and Evaluation in Adaptation Projects and Programmes.
CATEGORIES:Adaptation Fund Events
END:VEVENT
BEGIN:VTIMEZONE
TZID:America/New_York
X-LIC-LOCATION:America/New_York
BEGIN:DAYLIGHT
DTSTART:20170312T030000
TZOFFSETFROM:-0500
TZOFFSETTO:-0400
TZNAME:EDT
END:DAYLIGHT
END:VTIMEZONE
END:VCALENDAR