BEGIN:VCALENDAR
VERSION:2.0
PRODID:-//wp-events-plugin.com//7.2.3.1//EN
TZID:America/New_York
X-WR-TIMEZONE:America/New_York
BEGIN:VEVENT
UID:75@adaptation-fund.org
DTSTART;TZID=America/New_York:20171207T060000
DTEND;TZID=America/New_York:20171207T060000
DTSTAMP:20260313T175644Z
URL:https://www.adaptation-fund.org/event/adaptation-fund-readiness-webina
 r-5/
SUMMARY:Adaptation Fund Readiness Webinar #5
DESCRIPTION:The Climate Finance Readiness Webinar series for the National I
 mplementing Entities of the Adaptation Fund continues. Details of the even
 t will be announced later.
CATEGORIES:Adaptation Fund Events
END:VEVENT
BEGIN:VTIMEZONE
TZID:America/New_York
X-LIC-LOCATION:America/New_York
BEGIN:STANDARD
DTSTART:20171105T010000
TZOFFSETFROM:-0400
TZOFFSETTO:-0500
TZNAME:EST
END:STANDARD
END:VTIMEZONE
END:VCALENDAR