BEGIN:VCALENDAR
VERSION:2.0
PRODID:-//wp-events-plugin.com//7.2.3.1//EN
TZID:America/New_York
X-WR-TIMEZONE:America/New_York
BEGIN:VEVENT
UID:57@adaptation-fund.org
DTSTART;TZID=America/New_York:20181025T060000
DTEND;TZID=America/New_York:20181025T060000
DTSTAMP:20260313T175644Z
URL:https://www.adaptation-fund.org/event/adaptation-fund-readiness-webina
 r-7/
SUMMARY:Adaptation Fund Readiness Webinar #7
DESCRIPTION:The Climate Finance Readiness Webinar series for the National I
 mplementing Entities of the Adaptation Fund continues. Details of the even
 t will be announced later.
CATEGORIES:Adaptation Fund Events
LOCATION:Washington DC\, \, 
X-APPLE-STRUCTURED-LOCATION;VALUE=URI;X-ADDRESS=\, ;X-APPLE-RADIUS=100;X-TI
 TLE=Washington DC:geo:0,0
END:VEVENT
BEGIN:VTIMEZONE
TZID:America/New_York
X-LIC-LOCATION:America/New_York
BEGIN:DAYLIGHT
DTSTART:20180311T030000
TZOFFSETFROM:-0500
TZOFFSETTO:-0400
TZNAME:EDT
END:DAYLIGHT
END:VTIMEZONE
END:VCALENDAR