BEGIN:VCALENDAR
VERSION:2.0
PRODID:-//wp-events-plugin.com//7.2.3.1//EN
TZID:America/New_York
X-WR-TIMEZONE:America/New_York
BEGIN:VEVENT
UID:99@adaptation-fund.org
DTSTART;TZID=America/New_York:20160407T060000
DTEND;TZID=America/New_York:20160407T060000
DTSTAMP:20260313T175645Z
URL:https://www.adaptation-fund.org/event/adaptation-funds-presentation-at
 -the-third-meeting-of-the-global-network-of-basins-working-on-climate-chan
 ge-adaptation/
SUMMARY:Adaptation Fund's presentation at the third meeting of the global n
 etwork of basins working on climate change adaptation
DESCRIPTION:The Adaptation Fund participates in the third meeting of the gl
 obal network of basins working on the climate change adaptation. A member 
 of the Adaptation Fund Board Secretariat will present during Session 4: "F
 inancing basin-wide adaptation Costing adaptation measures\, using nationa
 l and international funding sources\, relationships with national and inte
 rnational institutions" and share the Fund’s experience in providing ext
 ernal funding sources in supporting regional endeavors in adaptation.\n\nC
 lick here for provisional agenda. 
CATEGORIES:Adaptation Fund Events
LOCATION:Geneva Switzerland\, Palais des Nations\, 1202 Genève\, Switzerla
 nd\, Genève\, Switzerland\, 1202\, Genève\, Switzerland
X-APPLE-STRUCTURED-LOCATION;VALUE=URI;X-ADDRESS=Palais des Nations\, 1202 G
 enève\, Switzerland\, Genève\, Switzerland\, 1202\, Genève\, Switzerlan
 d;X-APPLE-RADIUS=100;X-TITLE=Geneva Switzerland:geo:0,0
END:VEVENT
BEGIN:VTIMEZONE
TZID:America/New_York
X-LIC-LOCATION:America/New_York
BEGIN:DAYLIGHT
DTSTART:20160313T030000
TZOFFSETFROM:-0500
TZOFFSETTO:-0400
TZNAME:EDT
END:DAYLIGHT
END:VTIMEZONE
END:VCALENDAR