BEGIN:VCALENDAR
VERSION:2.0
PRODID:-//wp-events-plugin.com//7.2.3.1//EN
TZID:America/New_York
X-WR-TIMEZONE:America/New_York
BEGIN:VEVENT
UID:140@adaptation-fund.org
DTSTART;TZID=America/New_York:20151204T060000
DTEND;TZID=America/New_York:20151204T060000
DTSTAMP:20260313T175645Z
URL:https://www.adaptation-fund.org/event/adaptation-funds-side-event-dire
 ct-access-experiences/
SUMMARY:Adaptation Fund's Side Event: Direct Access Experiences
DESCRIPTION:The Adaptation Fund will bring together representatives from co
 untry-level National Implementing Entities (NIEs) to discuss their experie
 nces with the Fund’s ‘Direct Access’ program\, success stories and l
 essons learned. Read more
CATEGORIES:Adaptation Fund Events
LOCATION:COP21\, Le Bourget\, France\, Le Bourget\, France\, Île-de-France
 \, France
X-APPLE-STRUCTURED-LOCATION;VALUE=URI;X-ADDRESS=Le Bourget\, France\, Le Bo
 urget\, France\, Île-de-France\, France;X-APPLE-RADIUS=100;X-TITLE=COP21:
 geo:0,0
END:VEVENT
BEGIN:VTIMEZONE
TZID:America/New_York
X-LIC-LOCATION:America/New_York
BEGIN:STANDARD
DTSTART:20151101T010000
TZOFFSETFROM:-0400
TZOFFSETTO:-0500
TZNAME:EST
END:STANDARD
END:VTIMEZONE
END:VCALENDAR