BEGIN:VCALENDAR
VERSION:2.0
PRODID:-//wp-events-plugin.com//7.2.3.1//EN
TZID:America/New_York
X-WR-TIMEZONE:America/New_York
BEGIN:VEVENT
UID:126@adaptation-fund.org
DTSTART;TZID=America/New_York:20141205T060000
DTEND;TZID=America/New_York:20141205T060000
DTSTAMP:20260313T175645Z
URL:https://www.adaptation-fund.org/event/adaptation-funds-side-event-less
 ons-learned-in-financing-adaptation-to-climate-change/
SUMMARY:Adaptation Fund's Side Event: Lessons learned in financing adaptati
 on to climate change
DESCRIPTION:
CATEGORIES:Adaptation Fund Events
LOCATION:COP21\, Lima\, Peru\, Lima\, Peru\, Lima\, Peru
X-APPLE-STRUCTURED-LOCATION;VALUE=URI;X-ADDRESS=Lima\, Peru\, Lima\, Peru\,
  Lima\, Peru;X-APPLE-RADIUS=100;X-TITLE=COP21:geo:0,0
END:VEVENT
BEGIN:VTIMEZONE
TZID:America/New_York
X-LIC-LOCATION:America/New_York
BEGIN:STANDARD
DTSTART:20141102T010000
TZOFFSETFROM:-0400
TZOFFSETTO:-0500
TZNAME:EST
END:STANDARD
END:VTIMEZONE
END:VCALENDAR