BEGIN:VCALENDAR
VERSION:2.0
PRODID:-//wp-events-plugin.com//7.2.3.1//EN
TZID:America/New_York
X-WR-TIMEZONE:America/New_York
BEGIN:VEVENT
UID:71@adaptation-fund.org
DTSTART;TZID=America/New_York:20180618T060000
DTEND;TZID=America/New_York:20180618T060000
DTSTAMP:20260313T175644Z
URL:https://www.adaptation-fund.org/event/adaptation-futures-2018/
SUMMARY:Adaptation Futures 2018
DESCRIPTION:Adaptation Futures 2018 takes place from 18-21 June 2018 in Cap
 e Town\, South Africa.\n\nIt marks the first time this international clima
 te change adaptation conference is being held on the African continent. Th
 e conference will gather more than 1\,000 researchers\, climate specialist
 s\, public and private sector leaders from across the globe to connect cou
 ntries\, exchange experiences and inspire further climate action.\n\nAs a 
 partner\, the Adaptation Fund will showcase projects and lessons learned t
 hroughout the conference during sessions and through a display at the Adap
 tation Expo.\n\nLearn more about Adaptation Fund sessions and events at th
 e Adaptation Futures\n\nVisit Adaptation Futures website
CATEGORIES:Adaptation Fund Events
LOCATION:Cape Town\, South Africa\, Cape Town\, South Africa\, Cape Town\, 
 South Africa\, Western Cape\, South Africa
X-APPLE-STRUCTURED-LOCATION;VALUE=URI;X-ADDRESS=Cape Town\, South Africa\, 
 Cape Town\, South Africa\, Western Cape\, South Africa;X-APPLE-RADIUS=100;
 X-TITLE=Cape Town\, South Africa:geo:0,0
END:VEVENT
BEGIN:VTIMEZONE
TZID:America/New_York
X-LIC-LOCATION:America/New_York
BEGIN:DAYLIGHT
DTSTART:20180311T030000
TZOFFSETFROM:-0500
TZOFFSETTO:-0400
TZNAME:EDT
END:DAYLIGHT
END:VTIMEZONE
END:VCALENDAR