BEGIN:VCALENDAR
VERSION:2.0
PRODID:-//wp-events-plugin.com//7.2.3.1//EN
TZID:America/New_York
X-WR-TIMEZONE:America/New_York
BEGIN:VEVENT
UID:154@adaptation-fund.org
DTSTART;TZID=America/New_York:20160510T060000
DTEND;TZID=America/New_York:20160510T060000
DTSTAMP:20260313T175645Z
URL:https://www.adaptation-fund.org/event/adaptation-futures-practices-and
 -solutions-2016/
SUMMARY:Adaptation Futures\, Practices and Solutions 2016
DESCRIPTION:4th international climate change adaptation conference. See the
  full programme here.
CATEGORIES:Global Events
LOCATION:Postillion Convention Centre\, Rotterdam\, Beursplein 37\, 3011 AA
  Rotterdam\, Netherlands\, Rotterdam\, Netherlands\, 3011 AA\, Zuid-Hollan
 d\, Netherlands
X-APPLE-STRUCTURED-LOCATION;VALUE=URI;X-ADDRESS=Beursplein 37\, 3011 AA Rot
 terdam\, Netherlands\, Rotterdam\, Netherlands\, 3011 AA\, Zuid-Holland\, 
 Netherlands;X-APPLE-RADIUS=100;X-TITLE=Postillion Convention Centre\, Rott
 erdam:geo:0,0
END:VEVENT
BEGIN:VTIMEZONE
TZID:America/New_York
X-LIC-LOCATION:America/New_York
BEGIN:DAYLIGHT
DTSTART:20160313T030000
TZOFFSETFROM:-0500
TZOFFSETTO:-0400
TZNAME:EDT
END:DAYLIGHT
END:VTIMEZONE
END:VCALENDAR