BEGIN:VCALENDAR
VERSION:2.0
PRODID:-//wp-events-plugin.com//7.2.3.1//EN
TZID:America/New_York
X-WR-TIMEZONE:America/New_York
BEGIN:VEVENT
UID:106@adaptation-fund.org
DTSTART;TZID=America/New_York:20151119T060000
DTEND;TZID=America/New_York:20151119T060000
DTSTAMP:20260313T175645Z
URL:https://www.adaptation-fund.org/event/af-webinar-climate-finance-readi
 ness/
SUMMARY:AF Webinar: Climate Finance Readiness
DESCRIPTION:The first readiness webinar for National Implementing Entities 
 focused on community engagement and stakeholder consultation in climate ad
 aptation projects. The webinar included presentations from the Readiness P
 rogram and NGOs followed by an open online discussion. Read more about the
  event
CATEGORIES:Adaptation Fund Events
END:VEVENT
BEGIN:VTIMEZONE
TZID:America/New_York
X-LIC-LOCATION:America/New_York
BEGIN:STANDARD
DTSTART:20151101T010000
TZOFFSETFROM:-0400
TZOFFSETTO:-0500
TZNAME:EST
END:STANDARD
END:VTIMEZONE
END:VCALENDAR