BEGIN:VCALENDAR
VERSION:2.0
PRODID:-//wp-events-plugin.com//7.2.3.1//EN
TZID:America/New_York
X-WR-TIMEZONE:America/New_York
BEGIN:VEVENT
UID:62@adaptation-fund.org
DTSTART;TZID=America/New_York:20180430T060000
DTEND;TZID=America/New_York:20180430T060000
DTSTAMP:20260313T175644Z
URL:https://www.adaptation-fund.org/event/bonn-climate-change-conference-2
 /
SUMMARY:Bonn Climate Change Conference
DESCRIPTION:The forty-eighth sessions of the Subsidiary Body for Implementa
 tion (SBI 48) and Subsidiary Body for Scientific and Technological Advice 
 (SBSTA 48) as well as the fifth part of the first session of the Ad Hoc Wo
 rking Group on the Paris Agreement (APA 1-5) will take place from 30 April
  to 10 May 2018\n\nLearn more &gt\;
CATEGORIES:Global Events
END:VEVENT
BEGIN:VTIMEZONE
TZID:America/New_York
X-LIC-LOCATION:America/New_York
BEGIN:DAYLIGHT
DTSTART:20180311T030000
TZOFFSETFROM:-0500
TZOFFSETTO:-0400
TZNAME:EDT
END:DAYLIGHT
END:VTIMEZONE
END:VCALENDAR