BEGIN:VCALENDAR
VERSION:2.0
PRODID:-//wp-events-plugin.com//7.2.3.1//EN
TZID:America/New_York
X-WR-TIMEZONE:America/New_York
BEGIN:VEVENT
UID:131@adaptation-fund.org
DTSTART;TZID=America/New_York:20160516T060000
DTEND;TZID=America/New_York:20160516T060000
DTSTAMP:20260313T175645Z
URL:https://www.adaptation-fund.org/event/bonn-climate-change-conference-s
 b44/
SUMMARY:Bonn Climate Change Conference SB44
DESCRIPTION:The forty-fourth sessions of the Subsidiary Body for Implementa
 tion (SBI 44) and  Subsidiary Body for Scientific and Technological Advi
 ce (SBSTA 44) as well as the first session of the Ad-hoc Working Group o
 n the Paris Agreement (APA 1) will take place from 16 to 26 May 2016\, in 
 Bonn\, Germany. Read more about the event
CATEGORIES:Global Events
LOCATION:Bonn\, Germany\, Bonn\, Germany\, Bonn\, Germany\, North Rhine-Wes
 tphalia\, Germany
X-APPLE-STRUCTURED-LOCATION;VALUE=URI;X-ADDRESS=Bonn\, Germany\, Bonn\, Ger
 many\, North Rhine-Westphalia\, Germany;X-APPLE-RADIUS=100;X-TITLE=Bonn\, 
 Germany:geo:0,0
END:VEVENT
BEGIN:VTIMEZONE
TZID:America/New_York
X-LIC-LOCATION:America/New_York
BEGIN:DAYLIGHT
DTSTART:20160313T030000
TZOFFSETFROM:-0500
TZOFFSETTO:-0400
TZNAME:EDT
END:DAYLIGHT
END:VTIMEZONE
END:VCALENDAR