BEGIN:VCALENDAR
VERSION:2.0
PRODID:-//wp-events-plugin.com//7.2.3.1//EN
TZID:America/New_York
X-WR-TIMEZONE:America/New_York
BEGIN:VEVENT
UID:84@adaptation-fund.org
DTSTART;TZID=Europe/Berlin:20170508T000000
DTEND;TZID=Europe/Berlin:20170508T000000
DTSTAMP:20260313T175644Z
URL:https://www.adaptation-fund.org/event/bonn-climate-change-conference-s
 bi-46-apa-1-3/
SUMMARY:Bonn Climate Change Conference (SBI 46\, APA 1-3)
DESCRIPTION:The forty-sixth sessions of the Subsidiary Body for Implementat
 ion (SBI 46) and the third part of the first session of the Ad Hoc Working
  Group on the Paris Agreement (APA 1-3) will take place from 8 to 18 May 2
 017\, in Bonn\, Germany.\n\nRead more &gt\;
CATEGORIES:Global Events
LOCATION:Bonn\, Germany\, Bonn\, Germany\, Bonn\, Germany\, North Rhine-Wes
 tphalia\, Germany
X-APPLE-STRUCTURED-LOCATION;VALUE=URI;X-ADDRESS=Bonn\, Germany\, Bonn\, Ger
 many\, North Rhine-Westphalia\, Germany;X-APPLE-RADIUS=100;X-TITLE=Bonn\, 
 Germany:geo:0,0
END:VEVENT
BEGIN:VTIMEZONE
TZID:Europe/Berlin
X-LIC-LOCATION:Europe/Berlin
BEGIN:DAYLIGHT
DTSTART:20170326T030000
TZOFFSETFROM:+0100
TZOFFSETTO:+0200
TZNAME:CEST
END:DAYLIGHT
END:VTIMEZONE
END:VCALENDAR