BEGIN:VCALENDAR
VERSION:2.0
PRODID:-//wp-events-plugin.com//7.2.3.1//EN
TZID:America/New_York
X-WR-TIMEZONE:America/New_York
BEGIN:VEVENT
UID:129@adaptation-fund.org
DTSTART;TZID=America/New_York:20150601T060000
DTEND;TZID=America/New_York:20150601T060000
DTSTAMP:20260313T175645Z
URL:https://www.adaptation-fund.org/event/bonn-climate-change-conference-3
 /
SUMMARY:Bonn Climate Change Conference
DESCRIPTION:42nd session of the Subsidiary Body for Implementation (SBI)\, 
 42nd session of the Subsidiary Body for Scientific and Technological Advic
 e (SBSTA)\, Ninth part of the 2nd session of the Ad Hoc Working Group on t
 he Durban Platform for Enhanced Action (ADP).
CATEGORIES:Global Events
LOCATION:Bonn\, Germany\, Bonn\, Germany\, Bonn\, Germany\, North Rhine-Wes
 tphalia\, Germany
X-APPLE-STRUCTURED-LOCATION;VALUE=URI;X-ADDRESS=Bonn\, Germany\, Bonn\, Ger
 many\, North Rhine-Westphalia\, Germany;X-APPLE-RADIUS=100;X-TITLE=Bonn\, 
 Germany:geo:0,0
END:VEVENT
BEGIN:VTIMEZONE
TZID:America/New_York
X-LIC-LOCATION:America/New_York
BEGIN:DAYLIGHT
DTSTART:20150308T030000
TZOFFSETFROM:-0500
TZOFFSETTO:-0400
TZNAME:EDT
END:DAYLIGHT
END:VTIMEZONE
END:VCALENDAR