BEGIN:VCALENDAR
VERSION:2.0
PRODID:-//wp-events-plugin.com//7.2.3.1//EN
TZID:America/New_York
X-WR-TIMEZONE:America/New_York
BEGIN:VEVENT
UID:4@adaptation-fund.org
DTSTART;TZID=America/New_York:20250424T150000
DTEND;TZID=America/New_York:20250424T161500
DTSTAMP:20260313T175644Z
URL:https://www.adaptation-fund.org/event/built-to-last-evaluating-the-sus
 tainability-of-adaptation-outcomes/
SUMMARY:Built to Last? Evaluating the Sustainability of Adaptation Outcomes
DESCRIPTION:This webinar will introduce the Ex Post Evaluation Toolkit\, a 
 structured guide designed to help implementing entities\, evaluation contr
 actors\, and climate adaptation professionals assess the long-term sustain
 ability and evolving impact of adaptation interventions and how these cont
 ribute to shaping resilience locally.  \n\nDuring this webinar you will:
  \n\n 	Gain an understanding the objectives of ex post evaluations and wh
 y they matter\; \n 	Learn about the Adaptation Fund approach for assessin
 g project sustainability and resilience\;\n 	Hear case studies showcasing 
 lessons learned from past evaluations\; and\n 	Get practical guidance on h
 ow to apply the toolkit effectively. \n\nInterpretation in Spanish and Fr
 ench available.\n\n[button link="https://youtu.be/V5ic3Nd-vX4?si=1ZeoSjcwg
 zHzx_J8" color="green" size="" stretch="" type="" shape="" target="_blank"
  title="" gradient_colors="|" gradient_hover_colors="|" accent_color="" ac
 cent_hover_color="" bevel_color="" border_width="" icon="" icon_position="
 left" icon_divider="no" modal="" animation_type="0" animation_direction="l
 eft" animation_speed="1" animation_offset="" alignment="" class="" id=""]W
 atch the recording here[/button][fusion_text]\n\n&nbsp\;\n\n
CATEGORIES:Adaptation Fund Events
END:VEVENT
BEGIN:VTIMEZONE
TZID:America/New_York
X-LIC-LOCATION:America/New_York
BEGIN:DAYLIGHT
DTSTART:20250309T030000
TZOFFSETFROM:-0500
TZOFFSETTO:-0400
TZNAME:EDT
END:DAYLIGHT
END:VTIMEZONE
END:VCALENDAR