BEGIN:VCALENDAR
VERSION:2.0
PRODID:-//wp-events-plugin.com//7.2.3.1//EN
TZID:America/New_York
X-WR-TIMEZONE:America/New_York
BEGIN:VEVENT
UID:42@adaptation-fund.org
DTSTART;TZID=America/New_York:20190923T060000
DTEND;TZID=America/New_York:20190923T060000
DTSTAMP:20260313T175644Z
URL:https://www.adaptation-fund.org/event/climate-action-summit-2019/
SUMMARY:Climate Action Summit 2019
DESCRIPTION:
CATEGORIES:Global Events
LOCATION:New York City\, US\, \, 
X-APPLE-STRUCTURED-LOCATION;VALUE=URI;X-ADDRESS=\, ;X-APPLE-RADIUS=100;X-TI
 TLE=New York City\, US:geo:0,0
END:VEVENT
BEGIN:VTIMEZONE
TZID:America/New_York
X-LIC-LOCATION:America/New_York
BEGIN:DAYLIGHT
DTSTART:20190310T030000
TZOFFSETFROM:-0500
TZOFFSETTO:-0400
TZNAME:EDT
END:DAYLIGHT
END:VTIMEZONE
END:VCALENDAR