BEGIN:VCALENDAR
VERSION:2.0
PRODID:-//wp-events-plugin.com//7.2.3.1//EN
TZID:America/New_York
X-WR-TIMEZONE:America/New_York
BEGIN:VEVENT
UID:97@adaptation-fund.org
DTSTART;TZID=America/New_York:20160606T060000
DTEND;TZID=America/New_York:20160606T060000
DTSTAMP:20260313T175645Z
URL:https://www.adaptation-fund.org/event/climate-finance-direct-access-wo
 rkshop/
SUMMARY:Climate Finance Direct Access Workshop
DESCRIPTION:Parrallel climate finance Direct Access workshop alongside the 
 16th Congo Basin Forest Partnership Meeting.
CATEGORIES:Adaptation Fund Events
LOCATION:Kigali\, Rwanda\, Kigali\, Rwanda\, Kigali\, Rwanda\, Kigali\, Rwa
 nda
X-APPLE-STRUCTURED-LOCATION;VALUE=URI;X-ADDRESS=Kigali\, Rwanda\, Kigali\, 
 Rwanda\, Kigali\, Rwanda;X-APPLE-RADIUS=100;X-TITLE=Kigali\, Rwanda:geo:0,
 0
END:VEVENT
BEGIN:VTIMEZONE
TZID:America/New_York
X-LIC-LOCATION:America/New_York
BEGIN:DAYLIGHT
DTSTART:20160313T030000
TZOFFSETFROM:-0500
TZOFFSETTO:-0400
TZNAME:EDT
END:DAYLIGHT
END:VTIMEZONE
END:VCALENDAR