BEGIN:VCALENDAR
VERSION:2.0
PRODID:-//wp-events-plugin.com//7.2.3.1//EN
TZID:America/New_York
X-WR-TIMEZONE:America/New_York
BEGIN:VEVENT
UID:9@adaptation-fund.org
DTSTART;TZID=America/New_York:20250128T143000
DTEND;TZID=America/New_York:20250128T160000
DTSTAMP:20260313T175644Z
URL:https://www.adaptation-fund.org/event/climate-finance-evidence-series-
 use-of-ai-in-climate-change-evaluations/
SUMMARY:Climate Finance Evidence Series: Use of AI in Climate Change Evalua
 tions
DESCRIPTION:AI has the potential to improve the quality and efficiency of e
 valuations. It has significant value in its analytical capabilities\, give
 n the increased focus on evidence-based and data-driven decision making\, 
 and the role of data as the engine of AI.  \n\nThis webinar shares detail
 s on a recently conducted joint study on the use of artificial intelligenc
 e in climate change evaluations. The study explores the potential of AI\, 
 assesses risks and opportunities\, and provides insights into future appli
 cations in climate change evaluations.  \n\nThis is part of the new Clima
 te Finance Evidence Series which explores key climate finance topics emerg
 ing from evaluations conducted by the four major climate funds as part of 
 a broader effort in stronger collaboration and knowledge sharing between t
 he funds to enhance access to and impact of climate finance.  \n\nThe ser
 ies is co-organized by the evaluation units of the four funds: the Techni
 cal Evaluation Reference Group of the Adaptation Fund (AF-TERG)\, the Clim
 ate Investment Fund’s Evaluation &amp\; Learning Initiative (CIF E&amp\;
 L)\, the Global Environmental Facility’s Independent Evaluation Office (
 GEF-IEO)\, and Green Climate Fund’s Independent Evaluation Unit (GCF-IEU
 ). \n\n&nbsp\;\nRegister for the event here
CATEGORIES:Adaptation Fund Events
END:VEVENT
BEGIN:VTIMEZONE
TZID:America/New_York
X-LIC-LOCATION:America/New_York
BEGIN:STANDARD
DTSTART:20241103T010000
TZOFFSETFROM:-0400
TZOFFSETTO:-0500
TZNAME:EST
END:STANDARD
END:VTIMEZONE
END:VCALENDAR