BEGIN:VCALENDAR
VERSION:2.0
PRODID:-//wp-events-plugin.com//7.2.3.1//EN
TZID:America/New_York
X-WR-TIMEZONE:America/New_York
BEGIN:VEVENT
UID:128@adaptation-fund.org
DTSTART;TZID=America/New_York:20150518T060000
DTEND;TZID=America/New_York:20150518T060000
DTSTAMP:20260313T175645Z
URL:https://www.adaptation-fund.org/event/climate-finance-readiness-semina
 r-3/
SUMMARY:Climate Finance Readiness Seminar
DESCRIPTION:Co-hosted with Heinrich Boell Stiffung\, DRFN and the governmen
 t of Namibia. Read more about the event &gt\;
CATEGORIES:Adaptation Fund Events
LOCATION:Windhoek\, Namibia\, Windhoek\, Namibia\, Windhoek\, Namibia\, Kho
 mas\, Namibia
X-APPLE-STRUCTURED-LOCATION;VALUE=URI;X-ADDRESS=Windhoek\, Namibia\, Windho
 ek\, Namibia\, Khomas\, Namibia;X-APPLE-RADIUS=100;X-TITLE=Windhoek\, Nami
 bia:geo:0,0
END:VEVENT
BEGIN:VTIMEZONE
TZID:America/New_York
X-LIC-LOCATION:America/New_York
BEGIN:DAYLIGHT
DTSTART:20150308T030000
TZOFFSETFROM:-0500
TZOFFSETTO:-0400
TZNAME:EDT
END:DAYLIGHT
END:VTIMEZONE
END:VCALENDAR