BEGIN:VCALENDAR
VERSION:2.0
PRODID:-//wp-events-plugin.com//7.2.3.1//EN
TZID:America/New_York
X-WR-TIMEZONE:America/New_York
BEGIN:VEVENT
UID:127@adaptation-fund.org
DTSTART;TZID=America/New_York:20150324T050000
DTEND;TZID=America/New_York:20150324T050000
DTSTAMP:20260313T175645Z
URL:https://www.adaptation-fund.org/event/climate-finance-readiness-semina
 r-2/
SUMMARY:Climate Finance Readiness Seminar
DESCRIPTION:Co-hosted with CAF and the government of Panama. Read more abou
 t the event.
CATEGORIES:Adaptation Fund Events
LOCATION:Panama City\, Panama City\, Panama\, Panama City\, Panama\, Panama
 \, Panama
X-APPLE-STRUCTURED-LOCATION;VALUE=URI;X-ADDRESS=Panama City\, Panama\, Pana
 ma City\, Panama\, Panama\, Panama;X-APPLE-RADIUS=100;X-TITLE=Panama City:
 geo:0,0
END:VEVENT
BEGIN:VTIMEZONE
TZID:America/New_York
X-LIC-LOCATION:America/New_York
BEGIN:DAYLIGHT
DTSTART:20150308T030000
TZOFFSETFROM:-0500
TZOFFSETTO:-0400
TZNAME:EDT
END:DAYLIGHT
END:VTIMEZONE
END:VCALENDAR