BEGIN:VCALENDAR
VERSION:2.0
PRODID:-//wp-events-plugin.com//7.2.3.1//EN
TZID:America/New_York
X-WR-TIMEZONE:America/New_York
BEGIN:VEVENT
UID:74@adaptation-fund.org
DTSTART;TZID=America/New_York:20170726T060000
DTEND;TZID=America/New_York:20170726T060000
DTSTAMP:20260313T175644Z
URL:https://www.adaptation-fund.org/event/climate-finance-readiness-semina
 r/
SUMMARY:Climate Finance Readiness Seminar
DESCRIPTION:The fourth Climate Finance Readiness Seminar for the National I
 mplementing Entities (NIEs) of the Adaptation Fund will be held from July 
 26-28\, 2017 in San José\, Costa Rica. The annual seminar is organized un
 der the Adaptation Fund Readiness Programme and hosted specifically for ac
 credited NIEs of the Fund. The event is co-hosted by Fundecooperacion para
  el Desarollo Sostenible\, an NIE of the Adaptation Fund.
CATEGORIES:Adaptation Fund Events
LOCATION:San José Province\, San José\, Costa Rica\, San José Province\,
  San José\, Costa Rica\, San José\, Costa Rica\, San José Province\, Co
 sta Rica
X-APPLE-STRUCTURED-LOCATION;VALUE=URI;X-ADDRESS=San José Province\, San Jo
 sé\, Costa Rica\, San José\, Costa Rica\, San José Province\, Costa Ric
 a;X-APPLE-RADIUS=100;X-TITLE=San José Province\, San José\, Costa Rica:g
 eo:0,0
END:VEVENT
BEGIN:VTIMEZONE
TZID:America/New_York
X-LIC-LOCATION:America/New_York
BEGIN:DAYLIGHT
DTSTART:20170312T030000
TZOFFSETFROM:-0500
TZOFFSETTO:-0400
TZNAME:EDT
END:DAYLIGHT
END:VTIMEZONE
END:VCALENDAR