BEGIN:VCALENDAR
VERSION:2.0
PRODID:-//wp-events-plugin.com//7.2.3.1//EN
TZID:America/New_York
X-WR-TIMEZONE:America/New_York
BEGIN:VEVENT
UID:132@adaptation-fund.org
DTSTART;TZID=America/New_York:20150728T060000
DTEND;TZID=America/New_York:20150728T060000
DTSTAMP:20260313T175645Z
URL:https://www.adaptation-fund.org/event/climate-finance-readiness-semina
 r-for-implementing-entities/
SUMMARY:Climate Finance Readiness Seminar for Implementing Entities
DESCRIPTION:The sixth readiness seminar focused on readiness throughout pro
 ject cycle and environmental and social safeguards. Read more about the ev
 ent. 
CATEGORIES:Adaptation Fund Events
LOCATION:Washington DC\, Washington\, DC\, USA\, Washington\, United States
 \, District of Columbia\, United States
X-APPLE-STRUCTURED-LOCATION;VALUE=URI;X-ADDRESS=Washington\, DC\, USA\, Was
 hington\, United States\, District of Columbia\, United States;X-APPLE-RAD
 IUS=100;X-TITLE=Washington DC:geo:0,0
END:VEVENT
BEGIN:VTIMEZONE
TZID:America/New_York
X-LIC-LOCATION:America/New_York
BEGIN:DAYLIGHT
DTSTART:20150308T030000
TZOFFSETFROM:-0500
TZOFFSETTO:-0400
TZNAME:EDT
END:DAYLIGHT
END:VTIMEZONE
END:VCALENDAR