BEGIN:VCALENDAR
VERSION:2.0
PRODID:-//wp-events-plugin.com//7.2.3.1//EN
TZID:America/New_York
X-WR-TIMEZONE:America/New_York
BEGIN:VEVENT
UID:101@adaptation-fund.org
DTSTART;TZID=America/New_York:20161027T150000
DTEND;TZID=America/New_York:20161027T163000
DTSTAMP:20260313T175645Z
URL:https://www.adaptation-fund.org/event/climate-finance-readiness-webina
 r-3/
SUMMARY:Climate Finance Readiness Webinar #3
DESCRIPTION:Adaptation Fund's Climate Finance Readiness Webinar Series cont
 inues with the topic "Management of Environmental and Social Risks and Gen
 der Risks in Adaptation Projects".\n\nThe webinars are part of the NIE com
 munity of practice and the focus is on exchanging ideas among the Fund’s
  National Implementing Entities. The webinar will provide a practical appr
 oach to ESP and Gender Policy. Through the webinar\, NIEs will share best 
 practices for implementing environmental and social as well as gender safe
 guards and applying the Fund’s policies.
CATEGORIES:Adaptation Fund Events
END:VEVENT
BEGIN:VTIMEZONE
TZID:America/New_York
X-LIC-LOCATION:America/New_York
BEGIN:DAYLIGHT
DTSTART:20160313T030000
TZOFFSETFROM:-0500
TZOFFSETTO:-0400
TZNAME:EDT
END:DAYLIGHT
END:VTIMEZONE
END:VCALENDAR