BEGIN:VCALENDAR
VERSION:2.0
PRODID:-//wp-events-plugin.com//7.2.3.1//EN
TZID:America/New_York
X-WR-TIMEZONE:America/New_York
BEGIN:VEVENT
UID:103@adaptation-fund.org
DTSTART;TZID=America/New_York:20160823T060000
DTEND;TZID=America/New_York:20160823T060000
DTSTAMP:20260313T175645Z
URL:https://www.adaptation-fund.org/event/climate-finance-readiness-worksh
 op-for-the-asia-and-asia-pacific-region/
SUMMARY:Climate Finance Readiness Workshop for the Asia and Asia Pacific Re
 gion
DESCRIPTION:Adaptation Fund's Climate Finance Readiness Workshop for the A
 sia and Asia Pacific Region.
CATEGORIES:Adaptation Fund Events
LOCATION:Mumbai\, India\, Mumbai\, Maharashtra\, India\, Mumbai\, India\, M
 aharashtra\, India
X-APPLE-STRUCTURED-LOCATION;VALUE=URI;X-ADDRESS=Mumbai\, Maharashtra\, Indi
 a\, Mumbai\, India\, Maharashtra\, India;X-APPLE-RADIUS=100;X-TITLE=Mumbai
 \, India:geo:0,0
END:VEVENT
BEGIN:VTIMEZONE
TZID:America/New_York
X-LIC-LOCATION:America/New_York
BEGIN:DAYLIGHT
DTSTART:20160313T030000
TZOFFSETFROM:-0500
TZOFFSETTO:-0400
TZNAME:EDT
END:DAYLIGHT
END:VTIMEZONE
END:VCALENDAR