BEGIN:VCALENDAR
VERSION:2.0
PRODID:-//wp-events-plugin.com//7.2.3.1//EN
TZID:America/New_York
X-WR-TIMEZONE:America/New_York
BEGIN:VEVENT
UID:102@adaptation-fund.org
DTSTART;TZID=America/New_York:20160906T060000
DTEND;TZID=America/New_York:20160906T060000
DTSTAMP:20260313T175645Z
URL:https://www.adaptation-fund.org/event/climate-finance-readiness-worksh
 op-for-the-middle-east-and-north-africa-region/
SUMMARY:Climate Finance Readiness Workshop for the Middle East and North Af
 rica Region
DESCRIPTION:Adaptation Fund's Climate Finance Readiness Workshop for the M
 iddle East and North Africa Region .
CATEGORIES:Adaptation Fund Events
LOCATION:Rabat\, Morocco\, Rabat 10000\, Morocco\, Rabat\, Morocco\, 10000\
 , Rabat-Sale-Zemmour-Zaer\, Morocco
X-APPLE-STRUCTURED-LOCATION;VALUE=URI;X-ADDRESS=Rabat 10000\, Morocco\, Rab
 at\, Morocco\, 10000\, Rabat-Sale-Zemmour-Zaer\, Morocco;X-APPLE-RADIUS=10
 0;X-TITLE=Rabat\, Morocco:geo:0,0
END:VEVENT
BEGIN:VTIMEZONE
TZID:America/New_York
X-LIC-LOCATION:America/New_York
BEGIN:DAYLIGHT
DTSTART:20160313T030000
TZOFFSETFROM:-0500
TZOFFSETTO:-0400
TZNAME:EDT
END:DAYLIGHT
END:VTIMEZONE
END:VCALENDAR