BEGIN:VCALENDAR
VERSION:2.0
PRODID:-//wp-events-plugin.com//7.2.3.1//EN
TZID:America/New_York
X-WR-TIMEZONE:America/New_York
BEGIN:VEVENT
UID:105@adaptation-fund.org
DTSTART;TZID=America/New_York:20141201T060000
DTEND;TZID=America/New_York:20141201T060000
DTSTAMP:20260313T175645Z
URL:https://www.adaptation-fund.org/event/cop20-cmp10-unfccc-climate-chang
 e-conference/
SUMMARY:COP20 - CMP10 UNFCCC Climate Change Conference
DESCRIPTION:
CATEGORIES:Global Events
LOCATION:Lima\, Peru\, \, 
X-APPLE-STRUCTURED-LOCATION;VALUE=URI;X-ADDRESS=\, ;X-APPLE-RADIUS=100;X-TI
 TLE=Lima\, Peru:geo:0,0
END:VEVENT
BEGIN:VTIMEZONE
TZID:America/New_York
X-LIC-LOCATION:America/New_York
BEGIN:STANDARD
DTSTART:20141102T010000
TZOFFSETFROM:-0400
TZOFFSETTO:-0500
TZNAME:EST
END:STANDARD
END:VTIMEZONE
END:VCALENDAR